BEGIN:VCALENDAR
VERSION:2.0
PRODID:-//ExpressionEngine Easy iCalendar plugin//NONSGML v2.0.1//EN
X-WR-TIMEZONE:America/New_York
X-WR-CALNAME:Upcoming Auctions
BEGIN:VEVENT
UID:134563
DTSTAMP:20250127T144600
DTSTART:20250127T144600
DTEND:20250228T150000
SUMMARY:14 4th Ave. Franklinville\, NY 14747
LOCATION:{location}
DESCRIPTION:Large home in the Village of Franklinville needs complete re
 hab!
URL:https://www.metrorobertsauctions.com/auctions/detail/bw13456
 3
SEQUENCE:1
END:VEVENT
END:VCALENDAR