BEGIN:VCALENDAR
VERSION:2.0
PRODID:-//ExpressionEngine Easy iCalendar plugin//NONSGML v2.0.1//EN
X-WR-TIMEZONE:America/New_York
X-WR-CALNAME:Upcoming Auctions
BEGIN:VEVENT
UID:134924
DTSTAMP:20250203T160500
DTSTART:20250203T160500
DTEND:20250303T220000
SUMMARY:181 E Main St. Arcade\, NY 14009
LOCATION:{location}
DESCRIPTION:Double in the Village of Arcade!
URL:https://www.metrorobertsauctions.com/auctions/detail/bw13492
 4
SEQUENCE:1
END:VEVENT
END:VCALENDAR