BEGIN:VCALENDAR
VERSION:2.0
PRODID:-//ExpressionEngine Easy iCalendar plugin//NONSGML v2.0.1//EN
X-WR-TIMEZONE:America/New_York
X-WR-CALNAME:Upcoming Auctions
BEGIN:VEVENT
UID:136933
DTSTAMP:20250311T172600
DTSTART:20250311T172600
DTEND:20250320T130000
SUMMARY:2827 William St. Cheektowaga\, NY 14227
LOCATION:{location}
DESCRIPTION:Great income opportunity with long term tenant!
URL:https://www.metrorobertsauctions.com/auctions/detail/bw13693
 3
SEQUENCE:1
END:VEVENT
END:VCALENDAR