BEGIN:VCALENDAR
VERSION:2.0
PRODID:-//ExpressionEngine Easy iCalendar plugin//NONSGML v2.0.1//EN
X-WR-TIMEZONE:America/New_York
X-WR-CALNAME:Upcoming Auctions
BEGIN:VEVENT
UID:138710
DTSTAMP:20250409T222400
DTSTART:20250409T222400
DTEND:20250424T130000
SUMMARY:20 Eugene Ave. Buffalo\, NY 14216
LOCATION:{location}
DESCRIPTION:Great North Buffalo income property!
URL:https://www.metrorobertsauctions.com/auctions/detail/bw13871
 0
SEQUENCE:1
END:VEVENT
END:VCALENDAR