BEGIN:VCALENDAR
VERSION:2.0
PRODID:-//ExpressionEngine Easy iCalendar plugin//NONSGML v2.0.1//EN
X-WR-TIMEZONE:America/New_York
X-WR-CALNAME:Upcoming Auctions
BEGIN:VEVENT
UID:140968
DTSTAMP:20250520T132200
DTSTART:20250520T132200
DTEND:20250602T120000
SUMMARY:70 Manitoba St. Buffalo\, NY 14206
LOCATION:{location}
DESCRIPTION:Great investment opportunity in Kaisertown!
URL:https://www.metrorobertsauctions.com/auctions/detail/bw14096
 8
SEQUENCE:1
END:VEVENT
END:VCALENDAR