BEGIN:VCALENDAR
VERSION:2.0
PRODID:-//ExpressionEngine Easy iCalendar plugin//NONSGML v2.0.1//EN
X-WR-TIMEZONE:America/New_York
X-WR-CALNAME:Upcoming Auctions
BEGIN:VEVENT
UID:141399
DTSTAMP:20250527T151800
DTSTART:20250527T151800
DTEND:20250610T130000
SUMMARY:47 Brownell St. Buffalo\, NY 14212
LOCATION:{location}
DESCRIPTION:3/2 East side double!
URL:https://www.metrorobertsauctions.com/auctions/detail/bw14139
 9
SEQUENCE:1
END:VEVENT
END:VCALENDAR