BEGIN:VCALENDAR
VERSION:2.0
PRODID:-//ExpressionEngine Easy iCalendar plugin//NONSGML v2.0.1//EN
X-WR-TIMEZONE:America/New_York
X-WR-CALNAME:Upcoming Auctions
BEGIN:VEVENT
UID:145105
DTSTAMP:20250724T152500
DTSTART:20250724T152500
DTEND:20250807T130000
SUMMARY:441 Busti Ave. Buffalo\, NY 14201
LOCATION:{location}
DESCRIPTION:Add your finishing touches to this multi family property in 
 the up and coming lower West Side!
URL:https://www.metrorobertsauctions.com/auctions/detail/bw14510
 5
SEQUENCE:1
END:VEVENT
END:VCALENDAR