BEGIN:VCALENDAR
VERSION:2.0
PRODID:-//ExpressionEngine Easy iCalendar plugin//NONSGML v2.0.1//EN
X-WR-TIMEZONE:America/New_York
X-WR-CALNAME:Upcoming Auctions
BEGIN:VEVENT
UID:150115
DTSTAMP:20251010T151600
DTSTART:20251010T151600
DTEND:20251016T130000
SUMMARY:166 Barnard St. Buffalo\, NY 14206
LOCATION:{location}
DESCRIPTION:Investor Special!
URL:https://www.metrorobertsauctions.com/auctions/detail/bw15011
 5
SEQUENCE:1
END:VEVENT
END:VCALENDAR